BEGIN:VCALENDAR
VERSION:2.0
PRODID:-//Squarespace Inc/Squarespace 6//v6//EN
BEGIN:VEVENT
UID:56f5d35fb09f955f0531bf36@squarespace.com
DTSTAMP:20160326T003430Z
DTSTART:20160401T083000Z
DTEND:20160401T120000Z
SUMMARY:Hot Gossip
END:VEVENT
END:VCALENDAR
