BEGIN:VCALENDAR
VERSION:2.0
PRODID:-//Squarespace Inc/Squarespace 6//v6//EN
BEGIN:VEVENT
UID:56aab2367086d71a07a767d4@squarespace.com
DTSTAMP:20160129T002909Z
DTSTART:20160309T070000Z
DTEND:20160309T100000Z
SUMMARY:Karaoke with Lance
END:VEVENT
END:VCALENDAR
