BEGIN:VCALENDAR
VERSION:2.0
PRODID:-//Squarespace Inc/Squarespace 6//v6//EN
BEGIN:VEVENT
UID:56aab202b2094332f55bd27f@squarespace.com
DTSTAMP:20160129T002819Z
DTSTART:20160308T060000Z
DTEND:20160308T090000Z
SUMMARY:Quiz Night
END:VEVENT
END:VCALENDAR
