BEGIN:VCALENDAR
VERSION:2.0
PRODID:-//Squarespace Inc/Squarespace 6//v6//EN
BEGIN:VEVENT
UID:56aab1d6b2094332f55bd11f@squarespace.com
DTSTAMP:20160129T002731Z
DTSTART:20160307T060000Z
DTEND:20160307T090000Z
SUMMARY:Texas Holdem
END:VEVENT
END:VCALENDAR
