BEGIN:VCALENDAR
VERSION:2.0
PRODID:-//Squarespace Inc/Squarespace 6//v6//EN
BEGIN:VEVENT
UID:56aab181d210b85419e0fead@squarespace.com
DTSTAMP:20160129T002638Z
DTSTART:20160304T083000Z
DTEND:20160304T120000Z
SUMMARY:Hot Gossip
END:VEVENT
END:VCALENDAR
