BEGIN:VCALENDAR
VERSION:2.0
PRODID:-//Squarespace Inc/Squarespace 6//v6//EN
BEGIN:VEVENT
UID:56aac392c6fc08d2f48aa339@squarespace.com
DTSTAMP:20160129T014329Z
DTSTART:20160331T073000Z
DTEND:20160331T103000Z
SUMMARY:Nick Lee
END:VEVENT
END:VCALENDAR
