BEGIN:VCALENDAR
VERSION:2.0
PRODID:-//Squarespace Inc/Squarespace 6//v6//EN
BEGIN:VEVENT
UID:56aac36742f5520fa3734f70@squarespace.com
DTSTAMP:20160129T014222Z
DTSTART:20160330T070000Z
DTEND:20160330T100000Z
SUMMARY:Karaoke with Lance
END:VEVENT
END:VCALENDAR
