BEGIN:VCALENDAR
VERSION:2.0
PRODID:-//Squarespace Inc/Squarespace 6//v6//EN
BEGIN:VEVENT
UID:56aab133c6fc08d2f48a28a8@squarespace.com
DTSTAMP:20160129T002510Z
DTSTART:20160303T073000Z
DTEND:20160303T103000Z
SUMMARY:Nick Lee
END:VEVENT
END:VCALENDAR
