BEGIN:VCALENDAR
VERSION:2.0
PRODID:-//Squarespace Inc/Squarespace 6//v6//EN
BEGIN:VEVENT
UID:56aac34ac6fc08d2f48aa181@squarespace.com
DTSTAMP:20160129T014148Z
DTSTART:20160329T060000Z
DTEND:20160329T090000Z
SUMMARY:Quiz Night
END:VEVENT
END:VCALENDAR
