BEGIN:VCALENDAR
VERSION:2.0
PRODID:-//Squarespace Inc/Squarespace 6//v6//EN
BEGIN:VEVENT
UID:56aac327d51cd4476b266511@squarespace.com
DTSTAMP:20160129T014117Z
DTSTART:20160328T060000Z
DTEND:20160328T090000Z
SUMMARY:Texas Holdem
END:VEVENT
END:VCALENDAR
