BEGIN:VCALENDAR
VERSION:2.0
PRODID:-//Squarespace Inc/Squarespace 6//v6//EN
BEGIN:VEVENT
UID:56aac2e9bfe8736b10fdd610@squarespace.com
DTSTAMP:20160129T014035Z
DTSTART:20160326T110000Z
DTEND:20160327T105900Z
SUMMARY:Closed
END:VEVENT
END:VCALENDAR
