BEGIN:VCALENDAR
VERSION:2.0
PRODID:-//Squarespace Inc/Squarespace 6//v6//EN
BEGIN:VEVENT
UID:56aac2393b0be305046c325a@squarespace.com
DTSTAMP:20160321T224531Z
DTSTART:20160326T073000Z
DTEND:20160326T230000Z
SUMMARY:Flat City Brotherhood
END:VEVENT
END:VCALENDAR
