BEGIN:VCALENDAR
VERSION:2.0
PRODID:-//Squarespace Inc/Squarespace 6//v6//EN
BEGIN:VEVENT
UID:56aac1f925981d65dc13afdf@squarespace.com
DTSTAMP:20160129T013635Z
DTSTART:20160324T110000Z
DTEND:20160324T235900Z
SUMMARY:Closed
END:VEVENT
END:VCALENDAR
