BEGIN:VCALENDAR
VERSION:2.0
PRODID:-//Squarespace Inc/Squarespace 6//v6//EN
BEGIN:VEVENT
UID:56aac0ddbe7b96fafe9003ca@squarespace.com
DTSTAMP:20160321T224238Z
DTSTART:20160324T073000Z
DTEND:20160324T230000Z
SUMMARY:Tri Zone
END:VEVENT
END:VCALENDAR
