BEGIN:VCALENDAR
VERSION:2.0
PRODID:-//Squarespace Inc/Squarespace 6//v6//EN
BEGIN:VEVENT
UID:56aac04b05caa7065b098341@squarespace.com
DTSTAMP:20160129T013047Z
DTSTART:20160323T070000Z
DTEND:20160323T100000Z
SUMMARY:Karaoke with Lance
END:VEVENT
END:VCALENDAR
