BEGIN:VCALENDAR
VERSION:2.0
PRODID:-//Squarespace Inc/Squarespace 6//v6//EN
BEGIN:VEVENT
UID:56aac0184d088e4dfa676a64@squarespace.com
DTSTAMP:20160129T012823Z
DTSTART:20160322T060000Z
DTEND:20160322T090000Z
SUMMARY:Quiz Night
END:VEVENT
END:VCALENDAR
