BEGIN:VCALENDAR
VERSION:2.0
PRODID:-//Squarespace Inc/Squarespace 6//v6//EN
BEGIN:VEVENT
UID:56aabfb969a91ac32dabfcaa@squarespace.com
DTSTAMP:20160129T012653Z
DTSTART:20160321T060000Z
DTEND:20160321T100000Z
SUMMARY:Texas Holdem
END:VEVENT
END:VCALENDAR
