BEGIN:VCALENDAR
VERSION:2.0
PRODID:-//Squarespace Inc/Squarespace 6//v6//EN
BEGIN:VEVENT
UID:56aab0f7a976af10d473dca5@squarespace.com
DTSTAMP:20160129T002403Z
DTSTART:20160302T070000Z
DTEND:20160302T100000Z
SUMMARY:Karaoke with lance
END:VEVENT
END:VCALENDAR
