BEGIN:VCALENDAR
VERSION:2.0
PRODID:-//Squarespace Inc/Squarespace 6//v6//EN
BEGIN:VEVENT
UID:56aabc93a12f44cabc8b1d9a@squarespace.com
DTSTAMP:20160129T011345Z
DTSTART:20160319T083000Z
DTEND:20160319T120000Z
SUMMARY:Absolut Duo
END:VEVENT
END:VCALENDAR
