BEGIN:VCALENDAR
VERSION:2.0
PRODID:-//Squarespace Inc/Squarespace 6//v6//EN
BEGIN:VEVENT
UID:56aabc63a12f44cabc8b1bff@squarespace.com
DTSTAMP:20160129T011227Z
DTSTART:20160318T083000Z
DTEND:20160318T120000Z
SUMMARY:Don't Tell Mama
END:VEVENT
END:VCALENDAR
