BEGIN:VCALENDAR
VERSION:2.0
PRODID:-//Squarespace Inc/Squarespace 6//v6//EN
BEGIN:VEVENT
UID:56aaba745827c36038c235fa@squarespace.com
DTSTAMP:20160129T010435Z
DTSTART:20160317T070000Z
DTEND:20160317T120000Z
SUMMARY:Reckless Duo
END:VEVENT
END:VCALENDAR
