BEGIN:VCALENDAR
VERSION:2.0
PRODID:-//Squarespace Inc/Squarespace 6//v6//EN
BEGIN:VEVENT
UID:56aab336859fd0d3e6979616@squarespace.com
DTSTAMP:20160129T010532Z
DTSTART:20160317T010000Z
DTEND:20160317T050000Z
SUMMARY:Flat City Brotherhood
END:VEVENT
END:VCALENDAR
