BEGIN:VCALENDAR
VERSION:2.0
PRODID:-//Squarespace Inc/Squarespace 6//v6//EN
BEGIN:VEVENT
UID:56aabaf0e0327c424e65ab87@squarespace.com
DTSTAMP:20160129T010648Z
DTSTART:20160316T220000Z
DTEND:20160317T120000Z
SUMMARY:Paddy's Day Celebration
END:VEVENT
END:VCALENDAR
