BEGIN:VCALENDAR
VERSION:2.0
PRODID:-//Squarespace Inc/Squarespace 6//v6//EN
BEGIN:VEVENT
UID:56aab30a5827c36038c202cf@squarespace.com
DTSTAMP:20160129T005908Z
DTSTART:20160315T060000Z
DTEND:20160315T100000Z
SUMMARY:Quiz Night
END:VEVENT
END:VCALENDAR
