BEGIN:VCALENDAR
VERSION:2.0
PRODID:-//Squarespace Inc/Squarespace 6//v6//EN
BEGIN:VEVENT
UID:56aaba4a1115e0a3f1360985@squarespace.com
DTSTAMP:20160129T010333Z
DTSTART:20160316T070000Z
DTEND:20160316T100000Z
SUMMARY:Karaoke with Lance
END:VEVENT
END:VCALENDAR
