BEGIN:VCALENDAR
VERSION:2.0
PRODID:-//Squarespace Inc/Squarespace 6//v6//EN
BEGIN:VEVENT
UID:56aab2de5dc6de18c6138d9b@squarespace.com
DTSTAMP:20160129T003157Z
DTSTART:20160314T060000Z
DTEND:20160314T090000Z
SUMMARY:Texas Holdem
END:VEVENT
END:VCALENDAR
