BEGIN:VCALENDAR
VERSION:2.0
PRODID:-//Squarespace Inc/Squarespace 6//v6//EN
BEGIN:VEVENT
UID:56aab2aaa128e6257bdad995@squarespace.com
DTSTAMP:20160129T003112Z
DTSTART:20160312T083000Z
DTEND:20160312T120000Z
SUMMARY:Tri Zone
END:VEVENT
END:VCALENDAR
