BEGIN:VCALENDAR
VERSION:2.0
PRODID:-//Squarespace Inc/Squarespace 6//v6//EN
BEGIN:VEVENT
UID:56aab26dd51cd4476b25f166@squarespace.com
DTSTAMP:20160129T002957Z
DTSTART:20160310T073000Z
DTEND:20160310T103000Z
SUMMARY:Bobby Lee
END:VEVENT
END:VCALENDAR
