BEGIN:VCALENDAR
VERSION:2.0
PRODID:-//Squarespace Inc/Squarespace 6//v6//EN
BEGIN:VEVENT
UID:56aaaf614bf11837b0fa50b8@squarespace.com
DTSTAMP:20160129T001700Z
DTSTART:20160301T060000Z
DTEND:20160301T090000Z
SUMMARY:Quiz Night
END:VEVENT
END:VCALENDAR
