BEGIN:VCALENDAR
VERSION:2.0
PRODID:-//Squarespace Inc/Squarespace 6//v6//EN
BEGIN:VEVENT
UID:56a997338b38d453db18a488@squarespace.com
DTSTAMP:20160128T042139Z
DTSTART:20160209T060000Z
DTEND:20160209T090000Z
SUMMARY:Quiz Night
END:VEVENT
END:VCALENDAR
