BEGIN:VCALENDAR
VERSION:2.0
PRODID:-//Squarespace Inc/Squarespace 6//v6//EN
BEGIN:VEVENT
UID:56a996f41f403906165708f3@squarespace.com
DTSTAMP:20160128T042044Z
DTSTART:20160208T060000Z
DTEND:20160208T090000Z
SUMMARY:Texas Holdem
END:VEVENT
END:VCALENDAR
