BEGIN:VCALENDAR
VERSION:2.0
PRODID:-//Squarespace Inc/Squarespace 6//v6//EN
BEGIN:VEVENT
UID:56a995dadf40f3237afda1ad@squarespace.com
DTSTAMP:20160128T041856Z
DTSTART:20160207T030000Z
DTEND:20160207T080000Z
SUMMARY:Miller Bar 23rd & 1st Birthday Party. Featuring Reckless Duo 
END:VEVENT
END:VCALENDAR
