BEGIN:VCALENDAR
VERSION:2.0
PRODID:-//Squarespace Inc/Squarespace 6//v6//EN
BEGIN:VEVENT
UID:568330a7d82d5ec8099e0a00@squarespace.com
DTSTAMP:20151230T011805Z
DTSTART:20160206T083000Z
DTEND:20160206T120000Z
SUMMARY:Hot Gossip
END:VEVENT
END:VCALENDAR
