BEGIN:VCALENDAR
VERSION:2.0
PRODID:-//Squarespace Inc/Squarespace 6//v6//EN
BEGIN:VEVENT
UID:56833078a2bab87f93f4232c@squarespace.com
DTSTAMP:20151230T011904Z
DTSTART:20160205T083000Z
DTEND:20160205T120000Z
SUMMARY:Don't Tell Mama
END:VEVENT
END:VCALENDAR
