BEGIN:VCALENDAR
VERSION:2.0
PRODID:-//Squarespace Inc/Squarespace 6//v6//EN
BEGIN:VEVENT
UID:5683300fa2bab87f93f41f6e@squarespace.com
DTSTAMP:20151230T011630Z
DTSTART:20160204T073000Z
DTEND:20160204T103000Z
SUMMARY:Nick Lee
END:VEVENT
END:VCALENDAR
