BEGIN:VCALENDAR
VERSION:2.0
PRODID:-//Squarespace Inc/Squarespace 6//v6//EN
BEGIN:VEVENT
UID:56aaace1ab2810426c7810b9@squarespace.com
DTSTAMP:20160129T000906Z
DTSTART:20160229T060000Z
DTEND:20160229T090000Z
SUMMARY:Texas Holdem
END:VEVENT
END:VCALENDAR
