BEGIN:VCALENDAR
VERSION:2.0
PRODID:-//Squarespace Inc/Squarespace 6//v6//EN
BEGIN:VEVENT
UID:56aaac66c2ea51cb59315540@squarespace.com
DTSTAMP:20160129T000429Z
DTSTART:20160227T083000Z
DTEND:20160227T120000Z
SUMMARY:Absolut Duo
END:VEVENT
END:VCALENDAR
