BEGIN:VCALENDAR
VERSION:2.0
PRODID:-//Squarespace Inc/Squarespace 6//v6//EN
BEGIN:VEVENT
UID:56aaac188b38d48c8e23a790@squarespace.com
DTSTAMP:20160129T000328Z
DTSTART:20160226T083000Z
DTEND:20160226T120000Z
SUMMARY:Reckless Duo
END:VEVENT
END:VCALENDAR
