BEGIN:VCALENDAR
VERSION:2.0
PRODID:-//Squarespace Inc/Squarespace 6//v6//EN
BEGIN:VEVENT
UID:56aaabef8b38d48c8e23a662@squarespace.com
DTSTAMP:20160129T000213Z
DTSTART:20160225T073000Z
DTEND:20160225T103000Z
SUMMARY:Bobby Lee
END:VEVENT
END:VCALENDAR
