BEGIN:VCALENDAR
VERSION:2.0
PRODID:-//Squarespace Inc/Squarespace 6//v6//EN
BEGIN:VEVENT
UID:56aaabc5cbced6c7e8d396d5@squarespace.com
DTSTAMP:20160129T000138Z
DTSTART:20160224T070000Z
DTEND:20160224T100000Z
SUMMARY:Karaoke with Lance
END:VEVENT
END:VCALENDAR
