BEGIN:VCALENDAR
VERSION:2.0
PRODID:-//Squarespace Inc/Squarespace 6//v6//EN
BEGIN:VEVENT
UID:56aaaba0cbced6c7e8d395cd@squarespace.com
DTSTAMP:20160129T000055Z
DTSTART:20160223T060000Z
DTEND:20160223T090000Z
SUMMARY:Quiz Night
END:VEVENT
END:VCALENDAR
