BEGIN:VCALENDAR
VERSION:2.0
PRODID:-//Squarespace Inc/Squarespace 6//v6//EN
BEGIN:VEVENT
UID:56aaab7ba2bab8420818d5bf@squarespace.com
DTSTAMP:20160129T000016Z
DTSTART:20160222T060000Z
DTEND:20160222T090000Z
SUMMARY:Texas Holdem
END:VEVENT
END:VCALENDAR
