BEGIN:VCALENDAR
VERSION:2.0
PRODID:-//Squarespace Inc/Squarespace 6//v6//EN
BEGIN:VEVENT
UID:56aaab21e0327c424e653cc4@squarespace.com
DTSTAMP:20160128T235851Z
DTSTART:20160220T083000Z
DTEND:20160221T000000Z
SUMMARY:Don't Tell Mama
END:VEVENT
END:VCALENDAR
