BEGIN:VCALENDAR
VERSION:2.0
PRODID:-//Squarespace Inc/Squarespace 6//v6//EN
BEGIN:VEVENT
UID:56832fbcb204d56356734bc0@squarespace.com
DTSTAMP:20151230T011405Z
DTSTART:20160202T060000Z
DTEND:20160202T090000Z
SUMMARY:Quiz Night
END:VEVENT
END:VCALENDAR
