BEGIN:VCALENDAR
VERSION:2.0
PRODID:-//Squarespace Inc/Squarespace 6//v6//EN
BEGIN:VEVENT
UID:56aaaae11115e0a3f1359a86@squarespace.com
DTSTAMP:20160128T235803Z
DTSTART:20160219T083000Z
DTEND:20160219T120000Z
SUMMARY:Flat City Brotherhood
END:VEVENT
END:VCALENDAR
