BEGIN:VCALENDAR
VERSION:2.0
PRODID:-//Squarespace Inc/Squarespace 6//v6//EN
BEGIN:VEVENT
UID:56aaaa7560b5e9ddcdfadb63@squarespace.com
DTSTAMP:20160128T235606Z
DTSTART:20160218T073000Z
DTEND:20160218T103000Z
SUMMARY:Nick Lee
END:VEVENT
END:VCALENDAR
