BEGIN:VCALENDAR
VERSION:2.0
PRODID:-//Squarespace Inc/Squarespace 6//v6//EN
BEGIN:VEVENT
UID:56aaaa38d210b85419e0c9c6@squarespace.com
DTSTAMP:20160128T235458Z
DTSTART:20160217T070000Z
DTEND:20160217T100000Z
SUMMARY:Karaoke with Lance
END:VEVENT
END:VCALENDAR
