BEGIN:VCALENDAR
VERSION:2.0
PRODID:-//Squarespace Inc/Squarespace 6//v6//EN
BEGIN:VEVENT
UID:56a999db40667ac72f6aa2f1@squarespace.com
DTSTAMP:20160128T043335Z
DTSTART:20160216T060000Z
DTEND:20160216T090000Z
SUMMARY:Quiz Night
END:VEVENT
END:VCALENDAR
