BEGIN:VCALENDAR
VERSION:2.0
PRODID:-//Squarespace Inc/Squarespace 6//v6//EN
BEGIN:VEVENT
UID:56a999ab40667ac72f6aa1cf@squarespace.com
DTSTAMP:20160128T043206Z
DTSTART:20160215T060000Z
DTEND:20160215T090000Z
SUMMARY:Texas Holdem
END:VEVENT
END:VCALENDAR
