BEGIN:VCALENDAR
VERSION:2.0
PRODID:-//Squarespace Inc/Squarespace 6//v6//EN
BEGIN:VEVENT
UID:56a998cb1115e0935b741a35@squarespace.com
DTSTAMP:20160128T043055Z
DTSTART:20160214T010000Z
DTEND:20160214T040000Z
SUMMARY:The Grooves
END:VEVENT
END:VCALENDAR
